BEGIN:VCALENDAR
VERSION:2.0
PRODID:-//Emerald Coast Healthcare Coalition - ECPv6.15.20//NONSGML v1.0//EN
CALSCALE:GREGORIAN
METHOD:PUBLISH
X-WR-CALNAME:Emerald Coast Healthcare Coalition
X-ORIGINAL-URL:https://emeraldcoasthealthcarecoalition.com
X-WR-CALDESC:Events for Emerald Coast Healthcare Coalition
REFRESH-INTERVAL;VALUE=DURATION:PT1H
X-Robots-Tag:noindex
X-PUBLISHED-TTL:PT1H
BEGIN:VTIMEZONE
TZID:America/New_York
BEGIN:DAYLIGHT
TZOFFSETFROM:-0500
TZOFFSETTO:-0400
TZNAME:EDT
DTSTART:20240310T070000
END:DAYLIGHT
BEGIN:STANDARD
TZOFFSETFROM:-0400
TZOFFSETTO:-0500
TZNAME:EST
DTSTART:20241103T060000
END:STANDARD
BEGIN:DAYLIGHT
TZOFFSETFROM:-0500
TZOFFSETTO:-0400
TZNAME:EDT
DTSTART:20250309T070000
END:DAYLIGHT
BEGIN:STANDARD
TZOFFSETFROM:-0400
TZOFFSETTO:-0500
TZNAME:EST
DTSTART:20251102T060000
END:STANDARD
BEGIN:DAYLIGHT
TZOFFSETFROM:-0500
TZOFFSETTO:-0400
TZNAME:EDT
DTSTART:20260308T070000
END:DAYLIGHT
BEGIN:STANDARD
TZOFFSETFROM:-0400
TZOFFSETTO:-0500
TZNAME:EST
DTSTART:20261101T060000
END:STANDARD
END:VTIMEZONE
BEGIN:VEVENT
DTSTART;VALUE=DATE:20250225
DTEND;VALUE=DATE:20250228
DTSTAMP:20260422T232903
CREATED:20250128T163822Z
LAST-MODIFIED:20250207T142800Z
UID:10000032-1740441600-1740700799@emeraldcoasthealthcarecoalition.com
SUMMARY:L-984 Strike Team/Task Force : ( L-984)
DESCRIPTION:L-984 NIMS ICS All-Hazards Position Specific Strike Team/Task Force\nFebruary 25-27Defuniak Springs\, FL \nFREE\n\n\n\nName\nL-984 Strike Team/Task Force : ( L-984)\n\n\nDescription\nThe course is addresses the roles and responsibilities appropriate to a Task Force/Strike team Leader operating on concert with a local or state-level AH IMT. These responsibilities fall into two categories: (1) responding to the incident and the command needs of the incident\, and (2) effectively fulfilling the position responsibilities of a Task Force/Strike Team Leader in conjunction with an AH IMT. This is an all-hazards\, instructor-led course that facilitates learning through discussion\, lecture\, and active participation in multiple exercise scenarios\n\n\nPreRequisite\nIS-0100: Introduction to the Incident Command System (ICS)\, ICS 100 IS-0200: Basic Incident Command System for Initial Response E/L/G 0300: Intermediate Incident Command System for Expanding Incidents (Post 2019 version) IS-0700: An Introduction to the National Incident Management System (NIMS) IS-0800: National Response Framework (NRF)\, An Introduction\n\n\nTarget Audience\nCourse Objectives – Describe the function and components of the Incident Management Organization/Team and the Operations Section– Describe the responsibilities of the Task Force/Strike (Resource) Team Leader at the pre-response\, response\, operational\, demobilization\, and post-incident phases of an incident– Describe the information gathering and dissemination responsibilities of the Task Force/Strike (Resource) Team Leader– Describe the leadership and personnel supervision responsibilities of the Task Force/Strike (Resource) Team Leader– Describe the risk management and safety responsibilities of the Task Force/Strike (Resource) Team Leader– Describe the tasks a Task Force/Strike Team Force Leader is required to complete during an Operational period for an incident– – E/L/G 0191 Emergency Operations Center/Incident Command System Interface E/L/G 0400 Advanced Incident Command System for Complex Incidents\, ICS 400\n\n\nAdditional Information\nThe class will be hosted in the Walton County Emergency Operations Center. Some materials will be printed\, but a laptop/tablet may be required during course instruction. The building runs cold\, please dress accordingly. For questions\, please contact Catie Feeney\, Operations at the information provided.\n\n\nLocation\nWalton County EOC\n\n\nAddress\n75 South Davis LaneDefuniak Springs 32435WaltonRegion 1View Map\n\n\nDate\nTuesday\, Feb 25\, 2025 – Thursday\, Feb 27\, 2025  \n\n\nPoint of Contact\nCatie Feeney8504014070  catie@waltoncountyem.org\n\n\n\nRESERVE YOUR SPOT \nWalton County EOC\n75 South Davis Lane Defuniak Springs 32435\n \n \n \n \n \n \n \nPLAN. TRAIN. RESPOND. RECOVER.\nInterested in joining our mission? Learn more about how your organization can contribute to a safer\, more prepared community. \nLEARN MOREJOIN THE ECHCC
URL:https://emeraldcoasthealthcarecoalition.com/event/l-984-strike-team-task-force-l-984/
LOCATION:Walton County EOC\, 75 South Davis Lane\, Defuniak Springs\, 32435\, United States
CATEGORIES:Training
END:VEVENT
END:VCALENDAR