BEGIN:VCALENDAR
VERSION:2.0
PRODID:-//Emerald Coast Healthcare Coalition - ECPv6.15.20//NONSGML v1.0//EN
CALSCALE:GREGORIAN
METHOD:PUBLISH
X-WR-CALNAME:Emerald Coast Healthcare Coalition
X-ORIGINAL-URL:https://emeraldcoasthealthcarecoalition.com
X-WR-CALDESC:Events for Emerald Coast Healthcare Coalition
REFRESH-INTERVAL;VALUE=DURATION:PT1H
X-Robots-Tag:noindex
X-PUBLISHED-TTL:PT1H
BEGIN:VTIMEZONE
TZID:America/New_York
BEGIN:DAYLIGHT
TZOFFSETFROM:-0500
TZOFFSETTO:-0400
TZNAME:EDT
DTSTART:20230312T070000
END:DAYLIGHT
BEGIN:STANDARD
TZOFFSETFROM:-0400
TZOFFSETTO:-0500
TZNAME:EST
DTSTART:20231105T060000
END:STANDARD
BEGIN:DAYLIGHT
TZOFFSETFROM:-0500
TZOFFSETTO:-0400
TZNAME:EDT
DTSTART:20240310T070000
END:DAYLIGHT
BEGIN:STANDARD
TZOFFSETFROM:-0400
TZOFFSETTO:-0500
TZNAME:EST
DTSTART:20241103T060000
END:STANDARD
BEGIN:DAYLIGHT
TZOFFSETFROM:-0500
TZOFFSETTO:-0400
TZNAME:EDT
DTSTART:20250309T070000
END:DAYLIGHT
BEGIN:STANDARD
TZOFFSETFROM:-0400
TZOFFSETTO:-0500
TZNAME:EST
DTSTART:20251102T060000
END:STANDARD
BEGIN:DAYLIGHT
TZOFFSETFROM:-0500
TZOFFSETTO:-0400
TZNAME:EDT
DTSTART:20260308T070000
END:DAYLIGHT
BEGIN:STANDARD
TZOFFSETFROM:-0400
TZOFFSETTO:-0500
TZNAME:EST
DTSTART:20261101T060000
END:STANDARD
END:VTIMEZONE
BEGIN:VEVENT
DTSTART;VALUE=DATE:20250206
DTEND;VALUE=DATE:20250208
DTSTAMP:20260422T214926
CREATED:20250102T185531Z
LAST-MODIFIED:20250102T185531Z
UID:10000025-1738800000-1738972799@emeraldcoasthealthcarecoalition.com
SUMMARY:G-400 post 5/10/2019 Advanced Incident Command System Command & General Staff: Complex Incidents :
DESCRIPTION:This course provides training for personnel who require advanced application of the Incident Command System (ICS). The course expands upon information covered in ICS-100 through ICS-300 courses. The target audience for this course is personnel who are expected to perform in a management capacity in an Area command or Multiagency Coordination Entity. Selection Criteria: Persons expected to perform in a management capacity in an area command/complex incident environment. Personnel must have completed the following ICS courses or an equivalent to these courses: ICS-100\, ICS-200\, ICS-300\, ICS-700\, and ICS-800. \n  \nLocation: \n\n\n\nLocation\nBay County Emergency Operations Center\n\n\nAddress\n700 Hwy 2300\nPanama City 32409\nBay\nRegion 1\n\n\n\nHow to Register Listed Below
URL:https://emeraldcoasthealthcarecoalition.com/event/g-400-post-5-10-2019-advanced-incident-command-system-command-general-staff-complex-incidents/
END:VEVENT
BEGIN:VEVENT
DTSTART;VALUE=DATE:20250205
DTEND;VALUE=DATE:20250207
DTSTAMP:20260422T214926
CREATED:20250102T184818Z
LAST-MODIFIED:20250102T184818Z
UID:10000024-1738713600-1738886399@emeraldcoasthealthcarecoalition.com
SUMMARY:G-205 Recovery from Disaster: The Local Government Role :
DESCRIPTION:This course is designed for local disaster recovery teams consisting of emergency managers\, city/county administrators\, public works directors\, building inspectors\, and community planners. The course focuses on the roles and responsibilities of each team member\, and provides guidance on developing a local disaster recovery plan. Participants are given the opportunity to develop an outline of their own recovery plan during the course. \n  \nRegister Through SERT TRAC (LINK BELOW)
URL:https://emeraldcoasthealthcarecoalition.com/event/g-205-recovery-from-disaster-the-local-government-role/
END:VEVENT
BEGIN:VEVENT
DTSTART;TZID=America/New_York:20250204T080000
DTEND;TZID=America/New_York:20250204T170000
DTSTAMP:20260422T214926
CREATED:20250102T184640Z
LAST-MODIFIED:20250102T184640Z
UID:10000023-1738656000-1738688400@emeraldcoasthealthcarecoalition.com
SUMMARY:G-557 Rapid Needs Assessment
DESCRIPTION:This is an 8 hour course. The ability to perform a rapid assessment accurately and within the first few hours after an incident is critical to providing response for life threatening and imminent hazards. Coordinated and timely assessments permit local government to prioritize response activities\, allocate scarce resources and request mutual aid and State & Federal assistance. Classroom activities\, facilitated exercises and instructor lead group discussion are utilized in this course to provide participants with the skills to perform assessment. Communities can use the Resource Guide and Facilitator’s Guide when developing the plan and procedures for rapidly and efficiently collecting disaster intelligence immediately following a disaster. This intelligence is used to prioritize response activities\, allocate available resources\, and specifically request resources from other sources to save and sustain lives. Update October 2019
URL:https://emeraldcoasthealthcarecoalition.com/event/g-557-rapid-needs-assessment/
CATEGORIES:Training
END:VEVENT
BEGIN:VEVENT
DTSTART;TZID=America/New_York:20250128T100000
DTEND;TZID=America/New_York:20250128T120000
DTSTAMP:20260422T214926
CREATED:20250116T161608Z
LAST-MODIFIED:20250116T172650Z
UID:10000028-1738058400-1738065600@emeraldcoasthealthcarecoalition.com
SUMMARY:Okaloosa County Health Improvement Partnership (OCHIP) Substance Use Training (Okaloosa County Department of Health) 9:00am-11:00am CST
DESCRIPTION:Okaloosa County Health Improvement Partnership (OCHIP) is hosting a Substance Use Training on Tuesday\, January 28th from 9:00 – 11:00 a.m. It is free and open to all community partners. You must register to attend to ensure we have enough seats. See the agenda attached above for more details. Feel free to share the registration information with others in your agency. \nWhy Attend? Hear from Dr. Kenneth Scheppke\, Deputy Secretary of Health at the Florida Department of Health\, to learn about how opioids interact with the brain\, what the Coordinated Opioid Response Network (CORE) is\, and how addiction impacts communities. Hear updates on the Post Overdose Support Team and program successes. Learn more about interagency collaboration and the importance of peers from Amber Williams with the Florida Department of Children and Families. \nRegister here: https://forms.office.com/g/nkpCLPGCYV \nAgenda: 25_01_28 OCHIP Substance Use Training Agenda \nEvent Details: \nOCHIP Substance Use Training \nTuesday\, January 28th \n9:00 – 11:00 a.m. \nDOH-Okaloosa (221 Hospital Dr NE Fort Walton Beach\, FL)
URL:https://emeraldcoasthealthcarecoalition.com/event/ochip-substance-use-training-okaloosa-county-department-of-health-900am-1100am-cst/
LOCATION:Florida Department of Health Okaloosa County\, 221 Hospital Dr. NE\, Fort Walton Beach\, FL\, 32548\, United States
ATTACH;FMTTYPE=image/jpeg:https://emeraldcoasthealthcarecoalition.com/wp-content/uploads/2025/01/313270924_5778855595506890_470023082789029311_n.jpg
END:VEVENT
BEGIN:VEVENT
DTSTART;TZID=America/New_York:20250125T080000
DTEND;TZID=America/New_York:20250125T170000
DTSTAMP:20260422T214926
CREATED:20250116T163956Z
LAST-MODIFIED:20250116T165029Z
UID:10000030-1737792000-1737824400@emeraldcoasthealthcarecoalition.com
SUMMARY:Rail Car Incident Response for Crude\, Ethanol\, and Other Flammable Liquids
DESCRIPTION:Rail Car Incident Response for Crude\, Ethanol\, and Other Flammable Liquids\n			January 25\n	  @\n8:00 am\n	  –\n5:00 pm\n				Defuniak Springs\, Florida				 \nFREE\nThe All Hazards Training Center at The University of Findlay has developed the Rail Car Incident Response for Crude\, Ethanol\, and Other Flammable Liquids training course for the U.S. Department of Transportation Pipeline and Hazardous Materials Safety Administration (DOT PHMSA) to educate emergency responders on freight rail car incidents involving hazardous materials\, specifically crude oil\, ethanol\, and other flammable liquids. As more and more rail traffic transports cargo\, including hazardous materials\, it is important that the responder community become educated about the dangers and unique hazards presented with rail cars carrying these commodities. The information covered in this tuition-free training course will enhance the ability of emergency responders to assess the scene of a rail car incident\, understand the resources needed to remediate the emergency situation\, including how the railroad will play a critical role in the response. \n					\n									RESERVE YOUR SPOT\n					 \nFor registration assistance\, please contact Susan Bloomfield at Susan.Bloomfield@findlay.edu or 419-434-4353. \nNo special PPE is required – it is recommended to wear comfortable clothing; no open toed shoes. \nAll Hazards Training Center at The University of Findlay\n75 South Davis Lane\, Defuniak Springs\, FL 32435\n			 \nPLAN. TRAIN. RESPOND. RECOVER.\nInterested in joining our mission? Learn more about how your organization can contribute to a safer\, more prepared community. \n					\n									LEARN MORE\n					\n					\n									JOIN THE ECHCC
URL:https://emeraldcoasthealthcarecoalition.com/event/rail-car-incident-response-for-crude-ethanol-and-other-flammable-liquids-3/
LOCATION:All Hazards Training Center at The University of Findlay\, United States
CATEGORIES:Training
ATTACH;FMTTYPE=image/jpeg:https://emeraldcoasthealthcarecoalition.com/wp-content/uploads/2024/12/DOT-ALERT-Flyer-Fort-Walton-Beach-FL.jpg
END:VEVENT
BEGIN:VEVENT
DTSTART;TZID=America/New_York:20250124T080000
DTEND;TZID=America/New_York:20250124T170000
DTSTAMP:20260422T214926
CREATED:20241201T132648Z
LAST-MODIFIED:20241202T203241Z
UID:10000005-1737705600-1737738000@emeraldcoasthealthcarecoalition.com
SUMMARY:Rail Car Incident Response for Crude\, Ethanol\, and Other Flammable Liquids
DESCRIPTION:Rail Car Incident Response for Crude\, Ethanol\, and Other Flammable Liquids\n			January 24\n	  @\n8:00 am\n	  –\n5:00 pm\n				Fort Walton Beach\, Florida				 \nFREE\nThe All Hazards Training Center at The University of Findlay has developed the Rail Car Incident Response for Crude\, Ethanol\, and Other Flammable Liquids training course for the U.S. Department of Transportation Pipeline and Hazardous Materials Safety Administration (DOT PHMSA) to educate emergency responders on freight rail car incidents involving hazardous materials\, specifically crude oil\, ethanol\, and other flammable liquids. As more and more rail traffic transports cargo\, including hazardous materials\, it is important that the responder community become educated about the dangers and unique hazards presented with rail cars carrying these commodities. The information covered in this tuition-free training course will enhance the ability of emergency responders to assess the scene of a rail car incident\, understand the resources needed to remediate the emergency situation\, including how the railroad will play a critical role in the response. \n					\n									RESERVE YOUR SPOT\n					 \nFor registration assistance\, please contact Susan Bloomfield at Susan.Bloomfield@findlay.edu or 419-434-4353. \nNo special PPE is required – it is recommended to wear comfortable clothing; no open toed shoes. \nAll Hazards Training Center at The University of Findlay\n326 Green Acres Road\, Fort Walton Beach\, FL 32547\n			 \nPLAN. TRAIN. RESPOND. RECOVER.\nInterested in joining our mission? Learn more about how your organization can contribute to a safer\, more prepared community. \n					\n									LEARN MORE\n					\n					\n									JOIN THE ECHCC
URL:https://emeraldcoasthealthcarecoalition.com/event/rail-car-incident-response-for-crude-ethanol-and-other-flammable-liquids/
LOCATION:All Hazards Training Center at The University of Findlay\, United States
CATEGORIES:Training
ATTACH;FMTTYPE=image/jpeg:https://emeraldcoasthealthcarecoalition.com/wp-content/uploads/2024/12/DOT-ALERT-Flyer-Fort-Walton-Beach-FL.jpg
END:VEVENT
BEGIN:VEVENT
DTSTART;TZID=America/New_York:20250114T100000
DTEND;TZID=America/New_York:20250114T110000
DTSTAMP:20260422T214926
CREATED:20241201T142210Z
LAST-MODIFIED:20241202T202700Z
UID:10000014-1736848800-1736852400@emeraldcoasthealthcarecoalition.com
SUMMARY:Patient Management: Receiving a Highly Infectious Disease Patient (HIDV3)
DESCRIPTION:Patient Management: Receiving a Highly Infectious Disease Patient (HIDV3)\nJanuary 14\n@\n10:00 am\n–\n11:00 am\nVirtual Event \nFREE\nA discussion of infectious disease patient management processes for effectively receiving patients who are self-presenting\, transported by EMS\, or transferred from a community health provider. \n\nRESERVE YOUR SPOT\n \nYou must have a FEMA SID before applying for a course.\nTo register for a FEMA SID number\, go to: https://cdp.dhs.gov/FEMASID and click “Register for FEMA SID” or “Forgot FEMA SID” \nIf you encounter any issues\, please contact the FEMA SID help desk at: femasidhelp@cdpemail.dhs.gov \n \nPLAN. TRAIN. RESPOND. RECOVER.\nInterested in joining our mission? Learn more about how your organization can contribute to a safer\, more prepared community. \n\nLEARN MORE\n\n\nJOIN THE ECHCC
URL:https://emeraldcoasthealthcarecoalition.com/event/patient-management-receiving-a-highly-infectious-disease-patient-hidv3/
LOCATION:Virtual Event
CATEGORIES:Training
ATTACH;FMTTYPE=image/jpeg:https://emeraldcoasthealthcarecoalition.com/wp-content/uploads/2024/12/dustin-granquist-INpOqrxK1xI-unsplash.jpg
END:VEVENT
BEGIN:VEVENT
DTSTART;TZID=America/New_York:20241220T130000
DTEND;TZID=America/New_York:20241220T170000
DTSTAMP:20260422T214926
CREATED:20241206T154226Z
LAST-MODIFIED:20241206T154531Z
UID:10000016-1734699600-1734714000@emeraldcoasthealthcarecoalition.com
SUMMARY:TEST
DESCRIPTION:TEST\n			December 20\n	  @\n1:00 pm\n	  –\n5:00 pm\n				VIRTUAL EVENT				 \nFREE \nText copy here. \n					\n									RESERVE YOUR SPOT\n					 \nPLAN. TRAIN. RESPOND. RECOVER.\nInterested in joining our mission? Learn more about how your organization can contribute to a safer\, more prepared community. \n					\n									LEARN MORE\n					\n					\n									JOIN THE ECHCC
URL:https://emeraldcoasthealthcarecoalition.com/event/test/
LOCATION:Virtual Event
CATEGORIES:Training
ATTACH;FMTTYPE=image/jpeg:https://emeraldcoasthealthcarecoalition.com/wp-content/uploads/2024/12/ECHCC-Opengraph-1200x675-1.jpg
END:VEVENT
BEGIN:VEVENT
DTSTART;TZID=America/New_York:20241217T130000
DTEND;TZID=America/New_York:20241217T170000
DTSTAMP:20260422T214926
CREATED:20241201T141146Z
LAST-MODIFIED:20241206T154008Z
UID:10000012-1734440400-1734454800@emeraldcoasthealthcarecoalition.com
SUMMARY:Comprehensive Emergency Management Plan (CEMP) Development Workshop
DESCRIPTION:Comprehensive Emergency Management Plan (CEMP) Development Workshop\n			December 17\n	  @\n1:00 pm\n	  –\n5:00 pm\n				VIRTUAL EVENT				 \nFREE \nThese virtual workshops will guide you through developing a Comprehensive Emergency Management Plan (CEMP) using the BOLDPlanning Platform! \n					\n									RESERVE YOUR SPOT\n					 \nPLAN. TRAIN. RESPOND. RECOVER.\nInterested in joining our mission? Learn more about how your organization can contribute to a safer\, more prepared community. \n					\n									LEARN MORE\n					\n					\n									JOIN THE ECHCC
URL:https://emeraldcoasthealthcarecoalition.com/event/comprehensive-emergency-management-plan-cemp-development-workshop-2/
LOCATION:Virtual Event
CATEGORIES:Training
ATTACH;FMTTYPE=image/jpeg:https://emeraldcoasthealthcarecoalition.com/wp-content/uploads/2024/12/Winter-2024-CEMP-Workshops-Flyer.jpg
END:VEVENT
BEGIN:VEVENT
DTSTART;TZID=America/New_York:20241205T100000
DTEND;TZID=America/New_York:20241205T110000
DTSTAMP:20260422T214926
CREATED:20241201T141740Z
LAST-MODIFIED:20241202T202532Z
UID:10000013-1733392800-1733396400@emeraldcoasthealthcarecoalition.com
SUMMARY:Autism Awareness for Emergency Services (OLS-V19)
DESCRIPTION:Autism Awareness for Emergency Services (OLS-V19)\nDecember 5\n@\n10:00 am\n–\n11:00 am\nVirtual Event \nFREE\nDiscussing the behavioral complications of autistic adults and children. Identifying some of the subtle signs typically associated with autistic individuals\, hazards associated with autistic individuals in a stressful emergency\, calming techniques\, dangers autistic individuals may put themselves\, the public and responders into\, recommendations for\npolice and fire departments to better understand autism and the autistic individuals in their communities. \n\nRESERVE YOUR SPOT\n \nYou must have a FEMA SID before applying for a course.\nTo register for a FEMA SID number\, go to: https://cdp.dhs.gov/FEMASID and click “Register for FEMA SID” or “Forgot FEMA SID” \nIf you encounter any issues\, please contact the FEMA SID help desk at: femasidhelp@cdpemail.dhs.gov \n \nPLAN. TRAIN. RESPOND. RECOVER.\nInterested in joining our mission? Learn more about how your organization can contribute to a safer\, more prepared community. \n\nLEARN MORE\n\n\nJOIN THE ECHCC
URL:https://emeraldcoasthealthcarecoalition.com/event/autism-awareness-for-emergency-services-ols-v19/
LOCATION:Virtual Event
CATEGORIES:Training
ATTACH;FMTTYPE=image/jpeg:https://emeraldcoasthealthcarecoalition.com/wp-content/uploads/2024/12/matt-c-HWTXLsPdut4-unsplash.jpg
END:VEVENT
BEGIN:VEVENT
DTSTART;TZID=America/New_York:20241202T130000
DTEND;TZID=America/New_York:20241202T170000
DTSTAMP:20260422T214926
CREATED:20241201T140841Z
LAST-MODIFIED:20241202T201937Z
UID:10000011-1733144400-1733158800@emeraldcoasthealthcarecoalition.com
SUMMARY:Comprehensive Emergency Management Plan (CEMP) Development Workshop
DESCRIPTION:Comprehensive Emergency Management Plan (CEMP) Development Workshop\n			December 2\n	  @\n1:00 pm\n	  –\n5:00 pm\n				VIRTUAL EVENT				 \nFREE\nThese virtual workshops will guide you through developing a Comprehensive Emergency Management Plan (CEMP) using the BOLDPlanning Platform! \n					\n									RESERVE YOUR SPOT\n					 \nPLAN. TRAIN. RESPOND. RECOVER.\nInterested in joining our mission? Learn more about how your organization can contribute to a safer\, more prepared community. \n					\n									LEARN MORE\n					\n					\n									JOIN THE ECHCC
URL:https://emeraldcoasthealthcarecoalition.com/event/comprehensive-emergency-management-plan-cemp-development-workshop/
LOCATION:Virtual Event
CATEGORIES:Training
ATTACH;FMTTYPE=image/jpeg:https://emeraldcoasthealthcarecoalition.com/wp-content/uploads/2024/12/Winter-2024-CEMP-Workshops-Flyer.jpg
END:VEVENT
END:VCALENDAR